BEGIN:VCALENDAR
VERSION:2.0
PRODID:-//Golddorf Grafschaft im Sauerland - ECPv6.15.13//NONSGML v1.0//EN
CALSCALE:GREGORIAN
METHOD:PUBLISH
X-ORIGINAL-URL:https://grafschaft-sauerland.de
X-WR-CALDESC:Veranstaltungen für Golddorf Grafschaft im Sauerland
REFRESH-INTERVAL;VALUE=DURATION:PT1H
X-Robots-Tag:noindex
X-PUBLISHED-TTL:PT1H
BEGIN:VTIMEZONE
TZID:Europe/Berlin
BEGIN:DAYLIGHT
TZOFFSETFROM:+0100
TZOFFSETTO:+0200
TZNAME:CEST
DTSTART:20250330T010000
END:DAYLIGHT
BEGIN:STANDARD
TZOFFSETFROM:+0200
TZOFFSETTO:+0100
TZNAME:CET
DTSTART:20251026T010000
END:STANDARD
BEGIN:DAYLIGHT
TZOFFSETFROM:+0100
TZOFFSETTO:+0200
TZNAME:CEST
DTSTART:20260329T010000
END:DAYLIGHT
BEGIN:STANDARD
TZOFFSETFROM:+0200
TZOFFSETTO:+0100
TZNAME:CET
DTSTART:20261025T010000
END:STANDARD
BEGIN:DAYLIGHT
TZOFFSETFROM:+0100
TZOFFSETTO:+0200
TZNAME:CEST
DTSTART:20270328T010000
END:DAYLIGHT
BEGIN:STANDARD
TZOFFSETFROM:+0200
TZOFFSETTO:+0100
TZNAME:CET
DTSTART:20271031T010000
END:STANDARD
BEGIN:DAYLIGHT
TZOFFSETFROM:+0100
TZOFFSETTO:+0200
TZNAME:CEST
DTSTART:20280326T010000
END:DAYLIGHT
BEGIN:STANDARD
TZOFFSETFROM:+0200
TZOFFSETTO:+0100
TZNAME:CET
DTSTART:20281029T010000
END:STANDARD
END:VTIMEZONE
BEGIN:VEVENT
DTSTART;VALUE=DATE:20260423
DTEND;VALUE=DATE:20260424
DTSTAMP:20260420T193712
CREATED:20251229T110125Z
LAST-MODIFIED:20251229T110125Z
UID:3175-1776902400-1776988799@grafschaft-sauerland.de
SUMMARY:Patronatsfest (Pfarrgemeinde)
DESCRIPTION:
URL:https://grafschaft-sauerland.de/event/patronatsfest-pfarrgemeinde/
END:VEVENT
BEGIN:VEVENT
DTSTART;VALUE=DATE:20260425
DTEND;VALUE=DATE:20260426
DTSTAMP:20260420T193712
CREATED:20251229T110125Z
LAST-MODIFIED:20251229T110125Z
UID:3176-1777075200-1777161599@grafschaft-sauerland.de
SUMMARY:Kreismusikfest VMB-HSK in Schmallenberg (Tambourkorps)
DESCRIPTION:
URL:https://grafschaft-sauerland.de/event/kreismusikfest-vmb-hsk-in-schmallenberg-tambourkorps/
END:VEVENT
BEGIN:VEVENT
DTSTART;VALUE=DATE:20260430
DTEND;VALUE=DATE:20260501
DTSTAMP:20260420T193712
CREATED:20251229T110125Z
LAST-MODIFIED:20251229T110125Z
UID:3177-1777507200-1777593599@grafschaft-sauerland.de
SUMMARY:Maibaumaufstellen (Tambourkorps)
DESCRIPTION:
URL:https://grafschaft-sauerland.de/event/maibaumaufstellen-tambourkorps-4/
END:VEVENT
BEGIN:VEVENT
DTSTART;VALUE=DATE:20260507
DTEND;VALUE=DATE:20260508
DTSTAMP:20260420T193712
CREATED:20251229T110125Z
LAST-MODIFIED:20251229T110125Z
UID:3178-1778112000-1778198399@grafschaft-sauerland.de
SUMMARY:Wallfahrtseröffnung auf dem Wilzenberg
DESCRIPTION:
URL:https://grafschaft-sauerland.de/event/wallfahrtseroeffnung-auf-dem-wilzenberg-3/
END:VEVENT
BEGIN:VEVENT
DTSTART;VALUE=DATE:20260509
DTEND;VALUE=DATE:20260510
DTSTAMP:20260420T193712
CREATED:20251229T110134Z
LAST-MODIFIED:20251229T110134Z
UID:3179-1778284800-1778371199@grafschaft-sauerland.de
SUMMARY:Kurkonzert am Feuerwehrhaus (Verkehrsverein und Feuerwehr)
DESCRIPTION:
URL:https://grafschaft-sauerland.de/event/kurkonzert-am-feuerwehrhaus-verkehrsverein-und-feuerwehr/
END:VEVENT
BEGIN:VEVENT
DTSTART;VALUE=DATE:20260510
DTEND;VALUE=DATE:20260511
DTSTAMP:20260420T193712
CREATED:20251229T110134Z
LAST-MODIFIED:20251229T110134Z
UID:3180-1778371200-1778457599@grafschaft-sauerland.de
SUMMARY:70 Jahre SGV Volkstanzgruppe – Feier in der Schützenhalle
DESCRIPTION:
URL:https://grafschaft-sauerland.de/event/70-jahre-sgv-volkstanzgruppe-feier-in-der-schuetzenhalle/
END:VEVENT
BEGIN:VEVENT
DTSTART;VALUE=DATE:20260514
DTEND;VALUE=DATE:20260518
DTSTAMP:20260420T193712
CREATED:20251229T110135Z
LAST-MODIFIED:20251229T110135Z
UID:3181-1778716800-1779062399@grafschaft-sauerland.de
SUMMARY:Sportfest (DJK)
DESCRIPTION:
URL:https://grafschaft-sauerland.de/event/sportfest-djk-5/
END:VEVENT
BEGIN:VEVENT
DTSTART;VALUE=DATE:20260517
DTEND;VALUE=DATE:20260518
DTSTAMP:20260420T193712
CREATED:20251229T110135Z
LAST-MODIFIED:20251229T110135Z
UID:3182-1778976000-1779062399@grafschaft-sauerland.de
SUMMARY:Konzert beim Sportfest (Tambourkorps)
DESCRIPTION:
URL:https://grafschaft-sauerland.de/event/konzert-beim-sportfest-tambourkorps/
END:VEVENT
BEGIN:VEVENT
DTSTART;VALUE=DATE:20260524
DTEND;VALUE=DATE:20260525
DTSTAMP:20260420T193712
CREATED:20251229T110135Z
LAST-MODIFIED:20251229T110135Z
UID:3183-1779580800-1779667199@grafschaft-sauerland.de
SUMMARY:Pfingstsonntag
DESCRIPTION:
URL:https://grafschaft-sauerland.de/event/pfingstsonntag-2/
END:VEVENT
BEGIN:VEVENT
DTSTART;VALUE=DATE:20260524
DTEND;VALUE=DATE:20260525
DTSTAMP:20260420T193712
CREATED:20251229T110144Z
LAST-MODIFIED:20251229T110144Z
UID:3184-1779580800-1779667199@grafschaft-sauerland.de
SUMMARY:Traditionelles Waldfest in Latrop
DESCRIPTION:
URL:https://grafschaft-sauerland.de/event/traditionelles-waldfest-in-latrop-2/
END:VEVENT
BEGIN:VEVENT
DTSTART;VALUE=DATE:20260528
DTEND;VALUE=DATE:20260529
DTSTAMP:20260420T193712
CREATED:20251229T110145Z
LAST-MODIFIED:20251229T110145Z
UID:3185-1779926400-1780012799@grafschaft-sauerland.de
SUMMARY:Kinderbuchlesung im Pfarrheim
DESCRIPTION:
URL:https://grafschaft-sauerland.de/event/kinderbuchlesung-im-pfarrheim/
END:VEVENT
BEGIN:VEVENT
DTSTART;VALUE=DATE:20260530
DTEND;VALUE=DATE:20260531
DTSTAMP:20260420T193712
CREATED:20251229T110145Z
LAST-MODIFIED:20251229T110145Z
UID:3186-1780099200-1780185599@grafschaft-sauerland.de
SUMMARY:Maiwanderung (SGV)
DESCRIPTION:
URL:https://grafschaft-sauerland.de/event/maiwanderung-sgv/
END:VEVENT
BEGIN:VEVENT
DTSTART;VALUE=DATE:20260531
DTEND;VALUE=DATE:20260601
DTSTAMP:20260420T193712
CREATED:20260131T135858Z
LAST-MODIFIED:20260131T135858Z
UID:3319-1780185600-1780271999@grafschaft-sauerland.de
SUMMARY:Dreifaltigkeitsprozession
DESCRIPTION:
URL:https://grafschaft-sauerland.de/event/dreifaltigkeitsprozession/
END:VEVENT
BEGIN:VEVENT
DTSTART;VALUE=DATE:20260604
DTEND;VALUE=DATE:20260605
DTSTAMP:20260420T193712
CREATED:20251229T110145Z
LAST-MODIFIED:20251229T110145Z
UID:3187-1780531200-1780617599@grafschaft-sauerland.de
SUMMARY:Jungschützenkönigsschießen an der Vogelstange
DESCRIPTION:
URL:https://grafschaft-sauerland.de/event/jungschuetzenkoenigsschiessen-an-der-vogelstange-4/
END:VEVENT
BEGIN:VEVENT
DTSTART;VALUE=DATE:20260614
DTEND;VALUE=DATE:20260615
DTSTAMP:20260420T193712
CREATED:20251229T110145Z
LAST-MODIFIED:20251229T110145Z
UID:3188-1781395200-1781481599@grafschaft-sauerland.de
SUMMARY:Tag der offenen Tür (Fraunhofer IME)
DESCRIPTION:
URL:https://grafschaft-sauerland.de/event/tag-der-offenen-tuer-fraunhofer-ime/
END:VEVENT
BEGIN:VEVENT
DTSTART;VALUE=DATE:20260616
DTEND;VALUE=DATE:20260617
DTSTAMP:20260420T193712
CREATED:20251229T110212Z
LAST-MODIFIED:20251229T110212Z
UID:3189-1781568000-1781654399@grafschaft-sauerland.de
SUMMARY:Wilzenberg-Abendgottesdienst
DESCRIPTION:
URL:https://grafschaft-sauerland.de/event/wilzenberg-abendgottesdienst-2/
END:VEVENT
BEGIN:VEVENT
DTSTART;VALUE=DATE:20260616
DTEND;VALUE=DATE:20260617
DTSTAMP:20260420T193712
CREATED:20251229T110212Z
LAST-MODIFIED:20260131T135939Z
UID:3190-1781568000-1781654399@grafschaft-sauerland.de
SUMMARY:„1. Antoniusdienstag“
DESCRIPTION:
URL:https://grafschaft-sauerland.de/event/1-antoniusdienstag/
END:VEVENT
BEGIN:VEVENT
DTSTART;VALUE=DATE:20260621
DTEND;VALUE=DATE:20260622
DTSTAMP:20260420T193712
CREATED:20251229T110213Z
LAST-MODIFIED:20251229T110213Z
UID:3191-1782000000-1782086399@grafschaft-sauerland.de
SUMMARY:Themenwanderung (SGV)
DESCRIPTION:
URL:https://grafschaft-sauerland.de/event/themenwanderung-sgv-4/
END:VEVENT
BEGIN:VEVENT
DTSTART;VALUE=DATE:20260623
DTEND;VALUE=DATE:20260624
DTSTAMP:20260420T193712
CREATED:20260131T140119Z
LAST-MODIFIED:20260131T140119Z
UID:3323-1782172800-1782259199@grafschaft-sauerland.de
SUMMARY:„2. Antoniusdienstag“
DESCRIPTION:
URL:https://grafschaft-sauerland.de/event/2-antoniusdienstag/
END:VEVENT
BEGIN:VEVENT
DTSTART;VALUE=DATE:20260627
DTEND;VALUE=DATE:20260629
DTSTAMP:20260420T193712
CREATED:20251229T110213Z
LAST-MODIFIED:20251229T110213Z
UID:3192-1782518400-1782691199@grafschaft-sauerland.de
SUMMARY:Schützenfest in Schmallenberg (Tambourkorps)
DESCRIPTION:
URL:https://grafschaft-sauerland.de/event/schuetzenfest-in-schmallenberg-tambourkorps-4/
END:VEVENT
BEGIN:VEVENT
DTSTART;VALUE=DATE:20260630
DTEND;VALUE=DATE:20260701
DTSTAMP:20260420T193712
CREATED:20260131T140137Z
LAST-MODIFIED:20260131T140137Z
UID:3325-1782777600-1782863999@grafschaft-sauerland.de
SUMMARY:„3. Antoniusdienstag“
DESCRIPTION:
URL:https://grafschaft-sauerland.de/event/3-antoniusdienstag/
END:VEVENT
BEGIN:VEVENT
DTSTART;VALUE=DATE:20260704
DTEND;VALUE=DATE:20260705
DTSTAMP:20260420T193712
CREATED:20251229T110213Z
LAST-MODIFIED:20251229T110213Z
UID:3193-1783123200-1783209599@grafschaft-sauerland.de
SUMMARY:Schützenfest in Latrop (Schützenbruderschaft)
DESCRIPTION:
URL:https://grafschaft-sauerland.de/event/schuetzenfest-in-latrop-schuetzenbruderschaft-4/
END:VEVENT
BEGIN:VEVENT
DTSTART;VALUE=DATE:20260705
DTEND;VALUE=DATE:20260713
DTSTAMP:20260420T193712
CREATED:20251229T110216Z
LAST-MODIFIED:20251229T110819Z
UID:3194-1783209600-1783900799@grafschaft-sauerland.de
SUMMARY:Mariä Heimsuchungswoche auf dem Wilzenberg
DESCRIPTION:
URL:https://grafschaft-sauerland.de/event/mariae-heimsuchungswoche-auf-dem-wilzenberg-4/
END:VEVENT
BEGIN:VEVENT
DTSTART;VALUE=DATE:20260707
DTEND;VALUE=DATE:20260708
DTSTAMP:20260420T193712
CREATED:20260131T140153Z
LAST-MODIFIED:20260131T140153Z
UID:3327-1783382400-1783468799@grafschaft-sauerland.de
SUMMARY:„4. Antoniusdienstag“
DESCRIPTION:
URL:https://grafschaft-sauerland.de/event/4-antoniusdienstag/
END:VEVENT
BEGIN:VEVENT
DTSTART;VALUE=DATE:20260711
DTEND;VALUE=DATE:20260714
DTSTAMP:20260420T193712
CREATED:20251229T110216Z
LAST-MODIFIED:20251229T110659Z
UID:3195-1783728000-1783987199@grafschaft-sauerland.de
SUMMARY:Schützenfest in Grafschaft
DESCRIPTION:11
URL:https://grafschaft-sauerland.de/event/schuetzenfest-in-grafschaft-4/
END:VEVENT
BEGIN:VEVENT
DTSTART;VALUE=DATE:20260714
DTEND;VALUE=DATE:20260715
DTSTAMP:20260420T193712
CREATED:20260131T140211Z
LAST-MODIFIED:20260131T140211Z
UID:3329-1783987200-1784073599@grafschaft-sauerland.de
SUMMARY:„5. Antoniusdienstag“
DESCRIPTION:
URL:https://grafschaft-sauerland.de/event/5-antoniusdienstag/
END:VEVENT
BEGIN:VEVENT
DTSTART;VALUE=DATE:20260721
DTEND;VALUE=DATE:20260722
DTSTAMP:20260420T193712
CREATED:20260131T140228Z
LAST-MODIFIED:20260131T140228Z
UID:3331-1784592000-1784678399@grafschaft-sauerland.de
SUMMARY:„6. Antoniusdienstag“
DESCRIPTION:
URL:https://grafschaft-sauerland.de/event/6-antoniusdienstag/
END:VEVENT
BEGIN:VEVENT
DTSTART;VALUE=DATE:20260725
DTEND;VALUE=DATE:20260726
DTSTAMP:20260420T193712
CREATED:20251229T110216Z
LAST-MODIFIED:20251229T110216Z
UID:3196-1784937600-1785023999@grafschaft-sauerland.de
SUMMARY:Abendgottesdienst auf dem Wilzenberg
DESCRIPTION:
URL:https://grafschaft-sauerland.de/event/abendgottesdienst-auf-dem-wilzenberg-4/
END:VEVENT
BEGIN:VEVENT
DTSTART;VALUE=DATE:20260728
DTEND;VALUE=DATE:20260729
DTSTAMP:20260420T193712
CREATED:20260131T140243Z
LAST-MODIFIED:20260131T140243Z
UID:3333-1785196800-1785283199@grafschaft-sauerland.de
SUMMARY:„7. Antoniusdienstag“
DESCRIPTION:
URL:https://grafschaft-sauerland.de/event/7-antoniusdienstag/
END:VEVENT
BEGIN:VEVENT
DTSTART;VALUE=DATE:20260802
DTEND;VALUE=DATE:20260803
DTSTAMP:20260420T193712
CREATED:20251229T110217Z
LAST-MODIFIED:20251229T110217Z
UID:3197-1785628800-1785715199@grafschaft-sauerland.de
SUMMARY:Schützenfest in Altenilpe (Tambourkorps)
DESCRIPTION:
URL:https://grafschaft-sauerland.de/event/schuetzenfest-in-altenilpe-tambourkorps-4/
END:VEVENT
BEGIN:VEVENT
DTSTART;VALUE=DATE:20260804
DTEND;VALUE=DATE:20260805
DTSTAMP:20260420T193712
CREATED:20260131T140300Z
LAST-MODIFIED:20260131T140300Z
UID:3335-1785801600-1785887999@grafschaft-sauerland.de
SUMMARY:„8. Antoniusdienstag“
DESCRIPTION:
URL:https://grafschaft-sauerland.de/event/8-antoniusdienstag/
END:VEVENT
BEGIN:VEVENT
DTSTART;VALUE=DATE:20260809
DTEND;VALUE=DATE:20260810
DTSTAMP:20260420T193712
CREATED:20251229T110217Z
LAST-MODIFIED:20251229T110217Z
UID:3198-1786233600-1786319999@grafschaft-sauerland.de
SUMMARY:Schützenfest in Elpe (Tambourkorps)
DESCRIPTION:
URL:https://grafschaft-sauerland.de/event/schuetzenfest-in-elpe-tambourkorps-2/
END:VEVENT
BEGIN:VEVENT
DTSTART;VALUE=DATE:20260811
DTEND;VALUE=DATE:20260812
DTSTAMP:20260420T193712
CREATED:20260131T140320Z
LAST-MODIFIED:20260131T140320Z
UID:3337-1786406400-1786492799@grafschaft-sauerland.de
SUMMARY:„9. Antoniusdienstag“
DESCRIPTION:
URL:https://grafschaft-sauerland.de/event/9-antoniusdienstag/
END:VEVENT
BEGIN:VEVENT
DTSTART;VALUE=DATE:20260815
DTEND;VALUE=DATE:20260816
DTSTAMP:20260420T193712
CREATED:20251229T110231Z
LAST-MODIFIED:20251229T110231Z
UID:3199-1786752000-1786838399@grafschaft-sauerland.de
SUMMARY:Sauerland-Bike-Marathon in Grafschaft (DJK und SC Wilzenberg)
DESCRIPTION:
URL:https://grafschaft-sauerland.de/event/sauerland-bike-marathon-in-grafschaft-djk-und-sc-wilzenberg-4/
END:VEVENT
BEGIN:VEVENT
DTSTART;VALUE=DATE:20260816
DTEND;VALUE=DATE:20260817
DTSTAMP:20260420T193712
CREATED:20251229T110232Z
LAST-MODIFIED:20251229T110232Z
UID:3200-1786838400-1786924799@grafschaft-sauerland.de
SUMMARY:Abschlussgottesdienst auf dem Wilzenberg
DESCRIPTION:
URL:https://grafschaft-sauerland.de/event/abschlussgottesdienst-auf-dem-wilzenberg-4/
END:VEVENT
BEGIN:VEVENT
DTSTART;VALUE=DATE:20260818
DTEND;VALUE=DATE:20260819
DTSTAMP:20260420T193712
CREATED:20251229T110232Z
LAST-MODIFIED:20251229T110232Z
UID:3201-1787011200-1787097599@grafschaft-sauerland.de
SUMMARY:Kirchweihfest (Pfarrgemeinde)
DESCRIPTION:
URL:https://grafschaft-sauerland.de/event/kirchweihfest-pfarrgemeinde-3/
END:VEVENT
BEGIN:VEVENT
DTSTART;VALUE=DATE:20260830
DTEND;VALUE=DATE:20260831
DTSTAMP:20260420T193712
CREATED:20251229T110232Z
LAST-MODIFIED:20251229T110232Z
UID:3202-1788048000-1788134399@grafschaft-sauerland.de
SUMMARY:100 Jahre SGV Grafschaft – Kartoffelbraten
DESCRIPTION:
URL:https://grafschaft-sauerland.de/event/100-jahre-sgv-grafschaft-kartoffelbraten/
END:VEVENT
BEGIN:VEVENT
DTSTART;VALUE=DATE:20260905
DTEND;VALUE=DATE:20260907
DTSTAMP:20260420T193712
CREATED:20251229T110232Z
LAST-MODIFIED:20251229T110854Z
UID:3203-1788566400-1788739199@grafschaft-sauerland.de
SUMMARY:Kreisschützenfest in Meschede (Schützenbruderschaft)
DESCRIPTION:
URL:https://grafschaft-sauerland.de/event/kreisschuetzenfest-in-meschede-schuetzenbruderschaft/
END:VEVENT
BEGIN:VEVENT
DTSTART;VALUE=DATE:20260906
DTEND;VALUE=DATE:20260907
DTSTAMP:20260420T193712
CREATED:20251229T110325Z
LAST-MODIFIED:20251229T110325Z
UID:3204-1788652800-1788739199@grafschaft-sauerland.de
SUMMARY:Kreisschützenfest in Meschede  (Tambourkorps)
DESCRIPTION:
URL:https://grafschaft-sauerland.de/event/kreisschuetzenfest-in-meschede-tambourkorps/
END:VEVENT
BEGIN:VEVENT
DTSTART;VALUE=DATE:20260912
DTEND;VALUE=DATE:20260913
DTSTAMP:20260420T193712
CREATED:20251229T110325Z
LAST-MODIFIED:20251229T110325Z
UID:3205-1789171200-1789257599@grafschaft-sauerland.de
SUMMARY:Kinderkleiderbörse in der Schützenhalle (kfd)
DESCRIPTION:
URL:https://grafschaft-sauerland.de/event/kinderkleiderboerse-in-der-schuetzenhalle-kfd-2/
END:VEVENT
BEGIN:VEVENT
DTSTART;VALUE=DATE:20260924
DTEND;VALUE=DATE:20260925
DTSTAMP:20260420T193712
CREATED:20251229T110325Z
LAST-MODIFIED:20251229T110325Z
UID:3206-1790208000-1790294399@grafschaft-sauerland.de
SUMMARY:Bezirksausschusssitzung
DESCRIPTION:
URL:https://grafschaft-sauerland.de/event/bezirksausschusssitzung-5/
END:VEVENT
BEGIN:VEVENT
DTSTART;VALUE=DATE:20260926
DTEND;VALUE=DATE:20260927
DTSTAMP:20260420T193712
CREATED:20251229T110326Z
LAST-MODIFIED:20251229T110326Z
UID:3207-1790380800-1790467199@grafschaft-sauerland.de
SUMMARY:Leistungsnachweis (Feuerwehr)
DESCRIPTION:
URL:https://grafschaft-sauerland.de/event/leistungsnachweis-feuerwehr/
END:VEVENT
BEGIN:VEVENT
DTSTART;VALUE=DATE:20261003
DTEND;VALUE=DATE:20261004
DTSTAMP:20260420T193712
CREATED:20251229T110326Z
LAST-MODIFIED:20251229T110326Z
UID:3208-1790985600-1791071999@grafschaft-sauerland.de
SUMMARY:Kinderschützenfest und Erntedankfest  (Schützenbruderschaft)
DESCRIPTION:
URL:https://grafschaft-sauerland.de/event/kinderschuetzenfest-und-erntedankfest-schuetzenbruderschaft/
END:VEVENT
BEGIN:VEVENT
DTSTART;VALUE=DATE:20261011
DTEND;VALUE=DATE:20261012
DTSTAMP:20260420T193712
CREATED:20251229T110328Z
LAST-MODIFIED:20251229T110328Z
UID:3209-1791676800-1791763199@grafschaft-sauerland.de
SUMMARY:Herbstwanderung (SGV)
DESCRIPTION:
URL:https://grafschaft-sauerland.de/event/herbstwanderung-sgv-4/
END:VEVENT
BEGIN:VEVENT
DTSTART;VALUE=DATE:20261101
DTEND;VALUE=DATE:20261102
DTSTAMP:20260420T193712
CREATED:20251229T110328Z
LAST-MODIFIED:20251229T110328Z
UID:3210-1793491200-1793577599@grafschaft-sauerland.de
SUMMARY:Allerheiligen
DESCRIPTION:
URL:https://grafschaft-sauerland.de/event/allerheiligen-2/
END:VEVENT
BEGIN:VEVENT
DTSTART;VALUE=DATE:20261107
DTEND;VALUE=DATE:20261108
DTSTAMP:20260420T193712
CREATED:20251229T110328Z
LAST-MODIFIED:20251229T110328Z
UID:3211-1794009600-1794095999@grafschaft-sauerland.de
SUMMARY:Generalversammlung Tambourkorps
DESCRIPTION:
URL:https://grafschaft-sauerland.de/event/generalversammlung-tambourkorps-4/
END:VEVENT
BEGIN:VEVENT
DTSTART;VALUE=DATE:20261108
DTEND;VALUE=DATE:20261109
DTSTAMP:20260420T193712
CREATED:20251229T110328Z
LAST-MODIFIED:20251229T110328Z
UID:3212-1794096000-1794182399@grafschaft-sauerland.de
SUMMARY:Martinszug (Schützenbruderschaft)
DESCRIPTION:
URL:https://grafschaft-sauerland.de/event/martinszug-schuetzenbruderschaft/
END:VEVENT
BEGIN:VEVENT
DTSTART;VALUE=DATE:20261110
DTEND;VALUE=DATE:20261111
DTSTAMP:20260420T193712
CREATED:20251229T110329Z
LAST-MODIFIED:20251229T110329Z
UID:3213-1794268800-1794355199@grafschaft-sauerland.de
SUMMARY:Mitgliederversammlung (Freundeskreis der Borromäerinnen)
DESCRIPTION:
URL:https://grafschaft-sauerland.de/event/mitgliederversammlung-freundeskreis-der-borromaeerinnen-3/
END:VEVENT
BEGIN:VEVENT
DTSTART;VALUE=DATE:20261114
DTEND;VALUE=DATE:20261115
DTSTAMP:20260420T193712
CREATED:20251229T110343Z
LAST-MODIFIED:20251229T110343Z
UID:3214-1794614400-1794700799@grafschaft-sauerland.de
SUMMARY:Generalversammlung SC Wilzenberg
DESCRIPTION:
URL:https://grafschaft-sauerland.de/event/generalversammlung-sc-wilzenberg-4/
END:VEVENT
BEGIN:VEVENT
DTSTART;VALUE=DATE:20261115
DTEND;VALUE=DATE:20261116
DTSTAMP:20260420T193712
CREATED:20251229T110343Z
LAST-MODIFIED:20251229T110343Z
UID:3215-1794700800-1794787199@grafschaft-sauerland.de
SUMMARY:Gedenkfeier am Ehrenmal
DESCRIPTION:
URL:https://grafschaft-sauerland.de/event/gedenkfeier-am-ehrenmal-4/
END:VEVENT
BEGIN:VEVENT
DTSTART;VALUE=DATE:20261121
DTEND;VALUE=DATE:20261122
DTSTAMP:20260420T193712
CREATED:20251229T110344Z
LAST-MODIFIED:20251229T110344Z
UID:3216-1795219200-1795305599@grafschaft-sauerland.de
SUMMARY:Generalversammlung Gesangverein
DESCRIPTION:
URL:https://grafschaft-sauerland.de/event/generalversammlung-gesangverein-4/
END:VEVENT
BEGIN:VEVENT
DTSTART;VALUE=DATE:20261128
DTEND;VALUE=DATE:20261129
DTSTAMP:20260420T193712
CREATED:20251229T110344Z
LAST-MODIFIED:20251229T110344Z
UID:3218-1795824000-1795910399@grafschaft-sauerland.de
SUMMARY:Generalversammlung DJK
DESCRIPTION:
URL:https://grafschaft-sauerland.de/event/generalversammlung-djk-4/
END:VEVENT
BEGIN:VEVENT
DTSTART;VALUE=DATE:20261128
DTEND;VALUE=DATE:20261129
DTSTAMP:20260420T193712
CREATED:20251229T110344Z
LAST-MODIFIED:20251229T110344Z
UID:3217-1795824000-1795910399@grafschaft-sauerland.de
SUMMARY:Weihnachtsbaumaufstellen (Schützenbruderschaft)
DESCRIPTION:
URL:https://grafschaft-sauerland.de/event/weihnachtsbaumaufstellen-schuetzenbruderschaft/
END:VEVENT
BEGIN:VEVENT
DTSTART;VALUE=DATE:20261129
DTEND;VALUE=DATE:20261130
DTSTAMP:20260420T193712
CREATED:20251229T110419Z
LAST-MODIFIED:20251229T110419Z
UID:3219-1795910400-1795996799@grafschaft-sauerland.de
SUMMARY:34. Adventskaffee für Senioren in der Schützenhalle (Schützenbruderschaft)
DESCRIPTION:
URL:https://grafschaft-sauerland.de/event/34-adventskaffee-fuer-senioren-in-der-schuetzenhalle-schuetzenbruderschaft/
END:VEVENT
BEGIN:VEVENT
DTSTART;VALUE=DATE:20261129
DTEND;VALUE=DATE:20270116
DTSTAMP:20260420T193712
CREATED:20251229T110420Z
LAST-MODIFIED:20251229T110420Z
UID:3220-1795910400-1800057599@grafschaft-sauerland.de
SUMMARY:Grafschafter Weihnachtsweg (Verkehrsverein)
DESCRIPTION:
URL:https://grafschaft-sauerland.de/event/grafschafter-weihnachtsweg-verkehrsverein-3/
END:VEVENT
BEGIN:VEVENT
DTSTART;VALUE=DATE:20261205
DTEND;VALUE=DATE:20261206
DTSTAMP:20260420T193712
CREATED:20251229T110420Z
LAST-MODIFIED:20251229T110420Z
UID:3221-1796428800-1796515199@grafschaft-sauerland.de
SUMMARY:Nikolausfeier (Feuerwehr)
DESCRIPTION:
URL:https://grafschaft-sauerland.de/event/nikolausfeier-feuerwehr/
END:VEVENT
BEGIN:VEVENT
DTSTART;VALUE=DATE:20261208
DTEND;VALUE=DATE:20261209
DTSTAMP:20260420T193712
CREATED:20251229T110420Z
LAST-MODIFIED:20251229T110420Z
UID:3222-1796688000-1796774399@grafschaft-sauerland.de
SUMMARY:Generalversammlung Frauengemeinschaft (kfd)
DESCRIPTION:
URL:https://grafschaft-sauerland.de/event/generalversammlung-frauengemeinschaft-kfd-4/
END:VEVENT
BEGIN:VEVENT
DTSTART;VALUE=DATE:20261212
DTEND;VALUE=DATE:20261213
DTSTAMP:20260420T193712
CREATED:20251229T110420Z
LAST-MODIFIED:20251229T110420Z
UID:3223-1797033600-1797119999@grafschaft-sauerland.de
SUMMARY:Weihnachtskonzert (Gesangverein)
DESCRIPTION:
URL:https://grafschaft-sauerland.de/event/weihnachtskonzert-gesangverein-2/
END:VEVENT
BEGIN:VEVENT
DTSTART;VALUE=DATE:20261227
DTEND;VALUE=DATE:20261228
DTSTAMP:20260420T193712
CREATED:20251229T110435Z
LAST-MODIFIED:20251229T110435Z
UID:3224-1798329600-1798415999@grafschaft-sauerland.de
SUMMARY:3. Grafschafter Schockmeisterschaften
DESCRIPTION:
URL:https://grafschaft-sauerland.de/event/3-grafschafter-schockmeisterschaften/
END:VEVENT
BEGIN:VEVENT
DTSTART;VALUE=DATE:20261230
DTEND;VALUE=DATE:20261231
DTSTAMP:20260420T193712
CREATED:20251229T110436Z
LAST-MODIFIED:20251229T110436Z
UID:3225-1798588800-1798675199@grafschaft-sauerland.de
SUMMARY:Hufeisenschmieden (Verkehrsverein)
DESCRIPTION:
URL:https://grafschaft-sauerland.de/event/hufeisenschmieden-verkehrsverein-4/
END:VEVENT
END:VCALENDAR